BEGIN:VCALENDAR
VERSION:2.0
PRODID:-//Carrabassett NEMBA - ECPv6.15.20//NONSGML v1.0//EN
CALSCALE:GREGORIAN
METHOD:PUBLISH
X-WR-CALNAME:Carrabassett NEMBA
X-ORIGINAL-URL:https://carrabassettnemba.org
X-WR-CALDESC:Events for Carrabassett NEMBA
REFRESH-INTERVAL;VALUE=DURATION:PT1H
X-Robots-Tag:noindex
X-PUBLISHED-TTL:PT1H
BEGIN:VTIMEZONE
TZID:America/New_York
BEGIN:DAYLIGHT
TZOFFSETFROM:-0500
TZOFFSETTO:-0400
TZNAME:EDT
DTSTART:20250309T070000
END:DAYLIGHT
BEGIN:STANDARD
TZOFFSETFROM:-0400
TZOFFSETTO:-0500
TZNAME:EST
DTSTART:20251102T060000
END:STANDARD
BEGIN:DAYLIGHT
TZOFFSETFROM:-0500
TZOFFSETTO:-0400
TZNAME:EDT
DTSTART:20260308T070000
END:DAYLIGHT
BEGIN:STANDARD
TZOFFSETFROM:-0400
TZOFFSETTO:-0500
TZNAME:EST
DTSTART:20261101T060000
END:STANDARD
BEGIN:DAYLIGHT
TZOFFSETFROM:-0500
TZOFFSETTO:-0400
TZNAME:EDT
DTSTART:20270314T070000
END:DAYLIGHT
BEGIN:STANDARD
TZOFFSETFROM:-0400
TZOFFSETTO:-0500
TZNAME:EST
DTSTART:20271107T060000
END:STANDARD
END:VTIMEZONE
BEGIN:VEVENT
DTSTART;TZID=America/New_York:20260904T090000
DTEND;TZID=America/New_York:20260904T110000
DTSTAMP:20260425T152133
CREATED:20260424T104642Z
LAST-MODIFIED:20260424T104642Z
UID:7248-1788512400-1788519600@carrabassettnemba.org
SUMMARY:Spinnin' Sugar Inter-Mellow Ride
DESCRIPTION:Join the women’s Spinnin’ Sugar inter-mellow ride each Friday morning at 9:00 AM.  Check the Spinnin’ Sugar Facebook Page for location.
URL:https://carrabassettnemba.org/event/spinnin-sugar-inter-mellow-ride-13/
LOCATION:TBD Check Spinnin’ Sugar FB Page
CATEGORIES:Ride
END:VEVENT
BEGIN:VEVENT
DTSTART;TZID=America/New_York:20260904T170000
DTEND;TZID=America/New_York:20260904T190000
DTSTAMP:20260425T152133
CREATED:20260424T133015Z
LAST-MODIFIED:20260424T133015Z
UID:7279-1788541200-1788548400@carrabassettnemba.org
SUMMARY:Spinnin' Sugar Advanced Women's Gravity Meet Up
DESCRIPTION:Meet outside the Sugarloaf Bike Shop on Fridays at 5:00 PM ready to hit the lift.
URL:https://carrabassettnemba.org/event/spinnin-sugar-advanced-womens-gravity-meet-up-11/
LOCATION:Sugarloaf Bike Park
CATEGORIES:Ride
END:VEVENT
END:VCALENDAR