BEGIN:VCALENDAR
VERSION:2.0
PRODID:-//Carrabassett NEMBA - ECPv6.15.20//NONSGML v1.0//EN
CALSCALE:GREGORIAN
METHOD:PUBLISH
X-ORIGINAL-URL:https://carrabassettnemba.org
X-WR-CALDESC:Events for Carrabassett NEMBA
REFRESH-INTERVAL;VALUE=DURATION:PT1H
X-Robots-Tag:noindex
X-PUBLISHED-TTL:PT1H
BEGIN:VTIMEZONE
TZID:America/New_York
BEGIN:DAYLIGHT
TZOFFSETFROM:-0500
TZOFFSETTO:-0400
TZNAME:EDT
DTSTART:20250309T070000
END:DAYLIGHT
BEGIN:STANDARD
TZOFFSETFROM:-0400
TZOFFSETTO:-0500
TZNAME:EST
DTSTART:20251102T060000
END:STANDARD
BEGIN:DAYLIGHT
TZOFFSETFROM:-0500
TZOFFSETTO:-0400
TZNAME:EDT
DTSTART:20260308T070000
END:DAYLIGHT
BEGIN:STANDARD
TZOFFSETFROM:-0400
TZOFFSETTO:-0500
TZNAME:EST
DTSTART:20261101T060000
END:STANDARD
BEGIN:DAYLIGHT
TZOFFSETFROM:-0500
TZOFFSETTO:-0400
TZNAME:EDT
DTSTART:20270314T070000
END:DAYLIGHT
BEGIN:STANDARD
TZOFFSETFROM:-0400
TZOFFSETTO:-0500
TZNAME:EST
DTSTART:20271107T060000
END:STANDARD
END:VTIMEZONE
BEGIN:VEVENT
DTSTART;TZID=America/New_York:20260307T163000
DTEND;TZID=America/New_York:20260307T183000
DTSTAMP:20260425T120546
CREATED:20260218T150911Z
LAST-MODIFIED:20260223T181955Z
UID:7097-1772901000-1772908200@carrabassettnemba.org
SUMMARY:CVTC Community Meeting / 2026 CVTrails Development Plan
DESCRIPTION:The 2026 CVTrails Mountain Bike Trail Development Plan is set to publish on March 4 (and will be available on this CRNEMBA website).  This plan has been in the works for more than a year as rider and community input have been collected and project options considered.  It seeks to build on the unique characteristics of our trail network that make the Carrabassett Valley region riding experience so special. \nThe Carrabassett Valley Trails Committee (CVTC) will hold a community meeting on Saturday March 7  from 4:30-6:30 PM at the Outdoor Center.  This informal gathering will be a chance to meet CVTC members\, hear more about the plan\, socialize and talk all things bike.  Light refreshments will be served. \nBring your bike to show support for our trails here in Carrabassett Valley. Roll around to the pond side of the Outdoor Center at 4:15 PM sharp for a group picture and a chance to win complementary tickets to the Sugarloaf Bike Park.
URL:https://carrabassettnemba.org/event/cvtc-community-meeting-2026-cvtrails-development-plan/
LOCATION:Sugarloaf Outdoor Center\, 3001 Touring Center Road\, Carrabassett Valley\, ME\, 04947\, United States
CATEGORIES:Special Event
END:VEVENT
BEGIN:VEVENT
DTSTART;TZID=America/New_York:20260430T170000
DTEND;TZID=America/New_York:20260430T190000
DTSTAMP:20260425T120546
CREATED:20260409T131306Z
LAST-MODIFIED:20260409T131306Z
UID:7133-1777568400-1777575600@carrabassettnemba.org
SUMMARY:Thursday Night Trailwork
DESCRIPTION:Join CRNEMBA for an evening trail work session!  Details and location will be forthcoming.
URL:https://carrabassettnemba.org/event/thursday-night-trailwork/
LOCATION:To Be Determined
CATEGORIES:Trail Work
END:VEVENT
BEGIN:VEVENT
DTSTART;TZID=America/New_York:20260514T170000
DTEND;TZID=America/New_York:20260514T190000
DTSTAMP:20260425T120546
CREATED:20260409T131645Z
LAST-MODIFIED:20260409T131645Z
UID:7135-1778778000-1778785200@carrabassettnemba.org
SUMMARY:Thursday Night Trail Work
DESCRIPTION:Join CRNEMBA for an evening trail work session!  Details and location will be forthcoming.
URL:https://carrabassettnemba.org/event/thursday-night-trail-work/
LOCATION:To Be Determined
CATEGORIES:Trail Work
END:VEVENT
BEGIN:VEVENT
DTSTART;TZID=America/New_York:20260521T170000
DTEND;TZID=America/New_York:20260521T190000
DTSTAMP:20260425T120546
CREATED:20260409T131757Z
LAST-MODIFIED:20260409T131757Z
UID:7137-1779382800-1779390000@carrabassettnemba.org
SUMMARY:Thursday Night Trail Work
DESCRIPTION:Join CRNEMBA for an evening trail work session!  Details and location will be forthcoming.
URL:https://carrabassettnemba.org/event/thursday-night-trail-work-2/
LOCATION:To Be Determined
CATEGORIES:Trail Work
END:VEVENT
BEGIN:VEVENT
DTSTART;TZID=America/New_York:20260523T090000
DTEND;TZID=America/New_York:20260523T130000
DTSTAMP:20260425T120546
CREATED:20260409T133316Z
LAST-MODIFIED:20260409T133754Z
UID:7144-1779526800-1779541200@carrabassettnemba.org
SUMMARY:CRNEMBA Trail Work Day
DESCRIPTION:Join CRNEMBA for a weekend trail work session!  Have some fun and make a difference with CRNEMBA as we maintain\, upgrade\, and build CVTrails.  All are welcome.  If you are not a CRNEMBA member this is a great way to learn about us and meet some members.  Generally plan on bringing sturdy boots/shoes\, work gloves\, safety glasses (if you have them -we have extra)\, water\, snacks and appropriate layers for changing conditions.  More details and meet up location will be forthcoming.
URL:https://carrabassettnemba.org/event/crnemba-trail-work-day/
LOCATION:To Be Determined
CATEGORIES:Trail Work
END:VEVENT
BEGIN:VEVENT
DTSTART;TZID=America/New_York:20260524T140000
DTEND;TZID=America/New_York:20260524T170000
DTSTAMP:20260425T120546
CREATED:20260127T095820Z
LAST-MODIFIED:20260127T095820Z
UID:7061-1779631200-1779642000@carrabassettnemba.org
SUMMARY:CRNEMBA Spring Kickoff Ride & Social
DESCRIPTION:Join CRNEMBA and the CV riding community for Spring Kickoff Ride & Social.  Save the date: details and location to follow soon.
URL:https://carrabassettnemba.org/event/crnemba-spring-kickoff-ride-social/
LOCATION:To Be Determined
CATEGORIES:Special Event
END:VEVENT
BEGIN:VEVENT
DTSTART;TZID=America/New_York:20260602T173000
DTEND;TZID=America/New_York:20260602T190000
DTSTAMP:20260425T120546
CREATED:20260417T115423Z
LAST-MODIFIED:20260424T094541Z
UID:7167-1780421400-1780426800@carrabassettnemba.org
SUMMARY:CRNEMBA Tuesday Night Ride
DESCRIPTION:This is a coed\, intermediate\, no-drop ride at a social pace\, but be ready for a bit of climbing ;).  The ride starts and ends at the Hostel of Maine with an opportunity for an after-ride beverage with fellow riders (for purchase at the Hostel of Maine).
URL:https://carrabassettnemba.org/event/crnemba-tuesday-night-ride/
LOCATION:Hostel of Maine\, 3004 Town Line Rd\, Carrabassett Valley\, 04947\, United States
CATEGORIES:Ride
END:VEVENT
BEGIN:VEVENT
DTSTART;TZID=America/New_York:20260604T170000
DTEND;TZID=America/New_York:20260604T190000
DTSTAMP:20260425T120546
CREATED:20260409T132210Z
LAST-MODIFIED:20260409T132210Z
UID:7139-1780592400-1780599600@carrabassettnemba.org
SUMMARY:Thursday Night Trail Work
DESCRIPTION:Join CRNEMBA for an evening trail work session!  Details and location will be forthcoming.
URL:https://carrabassettnemba.org/event/thursday-night-trail-work-3/
LOCATION:To Be Determined
CATEGORIES:Trail Work
END:VEVENT
BEGIN:VEVENT
DTSTART;TZID=America/New_York:20260605T090000
DTEND;TZID=America/New_York:20260605T110000
DTSTAMP:20260425T120546
CREATED:20260417T113121Z
LAST-MODIFIED:20260417T113121Z
UID:7157-1780650000-1780657200@carrabassettnemba.org
SUMMARY:Spinnin' Sugar Inter-mellow Ride
DESCRIPTION:Join the women’s Spinnin’ Sugar inter-mellow ride each Friday morning at 9:00 AM.  Check the Spinnin’ Sugar Facebook Page for location.
URL:https://carrabassettnemba.org/event/spinnin-sugar-inter-mellow-ride/
LOCATION:TBD Check Spinnin’ Sugar FB Page
CATEGORIES:Ride
END:VEVENT
BEGIN:VEVENT
DTSTART;TZID=America/New_York:20260609T173000
DTEND;TZID=America/New_York:20260609T190000
DTSTAMP:20260425T120546
CREATED:20260424T094828Z
LAST-MODIFIED:20260424T094828Z
UID:7178-1781026200-1781031600@carrabassettnemba.org
SUMMARY:CRNEMBA Tuesday Night Ride
DESCRIPTION:This is a coed\, intermediate\, no-drop ride at a social pace\, but be ready for a bit of climbing ;).  The ride starts and ends at the Hostel of Maine with an opportunity for an after-ride beverage with fellow riders (for purchase at the Hostel of Maine).
URL:https://carrabassettnemba.org/event/crnemba-tuesday-night-ride-2/
LOCATION:Hostel of Maine\, 3004 Town Line Rd\, Carrabassett Valley\, 04947\, United States
END:VEVENT
BEGIN:VEVENT
DTSTART;TZID=America/New_York:20260611T170000
DTEND;TZID=America/New_York:20260611T190000
DTSTAMP:20260425T120546
CREATED:20260409T132315Z
LAST-MODIFIED:20260409T132315Z
UID:7142-1781197200-1781204400@carrabassettnemba.org
SUMMARY:Thursday Night Trail Work
DESCRIPTION:Join CRNEMBA for an evening trail work session!  Details and location will be forthcoming.
URL:https://carrabassettnemba.org/event/thursday-night-trail-work-4/
LOCATION:To Be Determined
END:VEVENT
BEGIN:VEVENT
DTSTART;TZID=America/New_York:20260612T093000
DTEND;TZID=America/New_York:20260612T110000
DTSTAMP:20260425T120546
CREATED:20260424T103118Z
LAST-MODIFIED:20260424T103118Z
UID:7224-1781256600-1781262000@carrabassettnemba.org
SUMMARY:Spinnin' Sugar Inter-Mellow Ride
DESCRIPTION:Join the women’s Spinnin’ Sugar inter-mellow ride each Friday morning at 9:00 AM.  Check the Spinnin’ Sugar Facebook Page for location.
URL:https://carrabassettnemba.org/event/spinnin-sugar-inter-mellow-ride-2/
LOCATION:To Be Determined
CATEGORIES:Ride
END:VEVENT
BEGIN:VEVENT
DTSTART;TZID=America/New_York:20260616T173000
DTEND;TZID=America/New_York:20260616T190000
DTSTAMP:20260425T120546
CREATED:20260424T094952Z
LAST-MODIFIED:20260424T094952Z
UID:7180-1781631000-1781636400@carrabassettnemba.org
SUMMARY:CRNEMBA Tuesday Night Ride
DESCRIPTION:This is a coed\, intermediate\, no-drop ride at a social pace\, but be ready for a bit of climbing ;).  The ride starts and ends at the Hostel of Maine with an opportunity for an after-ride beverage with fellow riders (for purchase at the Hostel of Maine).
URL:https://carrabassettnemba.org/event/crnemba-tuesday-night-ride-3/
LOCATION:Hostel of Maine\, 3004 Town Line Rd\, Carrabassett Valley\, 04947\, United States
CATEGORIES:Ride
END:VEVENT
BEGIN:VEVENT
DTSTART;TZID=America/New_York:20260619T090000
DTEND;TZID=America/New_York:20260619T110000
DTSTAMP:20260425T120546
CREATED:20260424T103235Z
LAST-MODIFIED:20260424T103235Z
UID:7226-1781859600-1781866800@carrabassettnemba.org
SUMMARY:Spinnin' Sugar Inter-Mellow Ride
DESCRIPTION:Join the women’s Spinnin’ Sugar inter-mellow ride each Friday morning at 9:00 AM.  Check the Spinnin’ Sugar Facebook Page for location.
URL:https://carrabassettnemba.org/event/spinnin-sugar-inter-mellow-ride-3/
LOCATION:TBD Check Spinnin’ Sugar FB Page
CATEGORIES:Ride
END:VEVENT
BEGIN:VEVENT
DTSTART;TZID=America/New_York:20260620T090000
DTEND;TZID=America/New_York:20260620T130000
DTSTAMP:20260425T120546
CREATED:20260409T133531Z
LAST-MODIFIED:20260409T133531Z
UID:7147-1781946000-1781960400@carrabassettnemba.org
SUMMARY:CRNEMBA Trail Work Day
DESCRIPTION:Join CRNEMBA for a weekend trail work session!  Have some fun and make a difference with CRNEMBA as we maintain\, upgrade\, and build CVTrails.  All are welcome.  If you are not a CRNEMBA member this is a great way to learn about us and meet some members.  Generally plan on bringing sturdy boots/shoes\, work gloves\, safety glasses (if you have them -we have extra)\, water\, snacks and appropriate layers for changing conditions.  More details and meet up location will be forthcoming.
URL:https://carrabassettnemba.org/event/crnemba-trail-work-day-2/
LOCATION:To Be Determined
CATEGORIES:Trail Work
END:VEVENT
BEGIN:VEVENT
DTSTART;TZID=America/New_York:20260623T173000
DTEND;TZID=America/New_York:20260623T190000
DTSTAMP:20260425T120546
CREATED:20260424T101058Z
LAST-MODIFIED:20260424T102135Z
UID:7214-1782235800-1782241200@carrabassettnemba.org
SUMMARY:CRNEMBA Tuesday Night Ride
DESCRIPTION:This is a coed\, intermediate\, no-drop ride at a social pace\, but be ready for a bit of climbing ;).  The ride starts and ends at the Hostel of Maine with an opportunity for an after-ride beverage with fellow riders (for purchase at the Hostel of Maine).
URL:https://carrabassettnemba.org/event/crnemba-tuesday-night-ride-20/
LOCATION:Hostel of Maine\, 3004 Town Line Rd\, Carrabassett Valley\, 04947\, United States
CATEGORIES:Ride
END:VEVENT
BEGIN:VEVENT
DTSTART;TZID=America/New_York:20260626T090000
DTEND;TZID=America/New_York:20260626T110000
DTSTAMP:20260425T120546
CREATED:20260424T103404Z
LAST-MODIFIED:20260424T103404Z
UID:7228-1782464400-1782471600@carrabassettnemba.org
SUMMARY:Spinnin' Sugar Inter-Mellow Ride
DESCRIPTION:Join the women’s Spinnin’ Sugar inter-mellow ride each Friday morning at 9:00 AM.  Check the Spinnin’ Sugar Facebook Page for location.
URL:https://carrabassettnemba.org/event/spinnin-sugar-inter-mellow-ride-4/
LOCATION:TBD Check Spinnin’ Sugar FB Page
CATEGORIES:Ride
END:VEVENT
BEGIN:VEVENT
DTSTART;TZID=America/New_York:20260626T170000
DTEND;TZID=America/New_York:20260626T190000
DTSTAMP:20260425T120546
CREATED:20260417T113542Z
LAST-MODIFIED:20260417T113542Z
UID:7163-1782493200-1782500400@carrabassettnemba.org
SUMMARY:Spinnin' Sugar Advanced Women's Gravity Meet Up
DESCRIPTION:Meet outside the Sugarloaf Bike Shop on Fridays at 5:00 PM ready to hit the lift.
URL:https://carrabassettnemba.org/event/spinnin-sugar-advanced-womens-gravity-meet-up/
LOCATION:Sugarloaf Bike Park
CATEGORIES:Ride
END:VEVENT
BEGIN:VEVENT
DTSTART;TZID=America/New_York:20260627T090000
DTEND;TZID=America/New_York:20260627T130000
DTSTAMP:20260425T120546
CREATED:20260409T134206Z
LAST-MODIFIED:20260409T134420Z
UID:7150-1782550800-1782565200@carrabassettnemba.org
SUMMARY:CRNEMBA Trail Work Day
DESCRIPTION:Join CRNEMBA for a weekend trail work session!  Have some fun and make a difference with CRNEMBA as we maintain\, upgrade\, and build CVTrails.  All are welcome.  If you are not a CRNEMBA member this is a great way to learn about us and meet some members.  Generally plan on bringing sturdy boots/shoes\, work gloves\, safety glasses (if you have them -we have extra)\, water\, snacks and appropriate layers for changing conditions.  More details and meet up location will be forthcoming.
URL:https://carrabassettnemba.org/event/crnemba-trail-work-day-3/
LOCATION:To Be Determined
CATEGORIES:Trail Work
END:VEVENT
BEGIN:VEVENT
DTSTART;TZID=America/New_York:20260630T173000
DTEND;TZID=America/New_York:20260630T190000
DTSTAMP:20260425T120546
CREATED:20260424T102318Z
LAST-MODIFIED:20260424T102318Z
UID:7222-1782840600-1782846000@carrabassettnemba.org
SUMMARY:CRNEMBA Tuesday Night Ride
DESCRIPTION:This is a coed\, intermediate\, no-drop ride at a social pace\, but be ready for a bit of climbing ;).  The ride starts and ends at the Hostel of Maine with an opportunity for an after-ride beverage with fellow riders (for purchase at the Hostel of Maine).
URL:https://carrabassettnemba.org/event/crnemba-tuesday-night-ride-4/
LOCATION:Hostel of Maine\, 3004 Town Line Rd\, Carrabassett Valley\, 04947\, United States
CATEGORIES:Ride
END:VEVENT
BEGIN:VEVENT
DTSTART;TZID=America/New_York:20260703T090000
DTEND;TZID=America/New_York:20260703T110000
DTSTAMP:20260425T120546
CREATED:20260424T103547Z
LAST-MODIFIED:20260424T103547Z
UID:7230-1783069200-1783076400@carrabassettnemba.org
SUMMARY:Spinnin' Sugar Inter-Mellow Ride
DESCRIPTION:Join the women’s Spinnin’ Sugar inter-mellow ride each Friday morning at 9:00 AM.  Check the Spinnin’ Sugar Facebook Page for location.
URL:https://carrabassettnemba.org/event/spinnin-sugar-inter-mellow-ride-5/
LOCATION:TBD Check Spinnin’ Sugar FB Page
CATEGORIES:Ride
END:VEVENT
BEGIN:VEVENT
DTSTART;TZID=America/New_York:20260703T170000
DTEND;TZID=America/New_York:20260703T190000
DTSTAMP:20260425T120546
CREATED:20260424T130717Z
LAST-MODIFIED:20260424T130717Z
UID:7261-1783098000-1783105200@carrabassettnemba.org
SUMMARY:Spinnin' Sugar Advanced Women's Gravity Meet Up
DESCRIPTION:Meet outside the Sugarloaf Bike Shop on Fridays at 5:00 PM ready to hit the lift.
URL:https://carrabassettnemba.org/event/spinnin-sugar-advanced-womens-gravity-meet-up-2/
LOCATION:Sugarloaf Bike Park
CATEGORIES:Ride
END:VEVENT
BEGIN:VEVENT
DTSTART;TZID=America/New_York:20260707T173000
DTEND;TZID=America/New_York:20260707T190000
DTSTAMP:20260425T120547
CREATED:20260424T095230Z
LAST-MODIFIED:20260424T095230Z
UID:7184-1783445400-1783450800@carrabassettnemba.org
SUMMARY:CRNEMBA Tuesday Night Ride
DESCRIPTION:This is a coed\, intermediate\, no-drop ride at a social pace\, but be ready for a bit of climbing ;).  The ride starts and ends at the Hostel of Maine with an opportunity for an after-ride beverage with fellow riders (for purchase at the Hostel of Maine).
URL:https://carrabassettnemba.org/event/crnemba-tuesday-night-ride-5/
LOCATION:Hostel of Maine\, 3004 Town Line Rd\, Carrabassett Valley\, 04947\, United States
CATEGORIES:Ride
END:VEVENT
BEGIN:VEVENT
DTSTART;TZID=America/New_York:20260710T090000
DTEND;TZID=America/New_York:20260710T110000
DTSTAMP:20260425T120547
CREATED:20260424T103713Z
LAST-MODIFIED:20260424T103713Z
UID:7232-1783674000-1783681200@carrabassettnemba.org
SUMMARY:Spinnin' Sugar Inter-Mellow Ride
DESCRIPTION:Join the women’s Spinnin’ Sugar inter-mellow ride each Friday morning at 9:00 AM.  Check the Spinnin’ Sugar Facebook Page for location.
URL:https://carrabassettnemba.org/event/spinnin-sugar-inter-mellow-ride-6/
LOCATION:TBD Check Spinnin’ Sugar FB Page
CATEGORIES:Ride
END:VEVENT
BEGIN:VEVENT
DTSTART;TZID=America/New_York:20260710T170000
DTEND;TZID=America/New_York:20260710T190000
DTSTAMP:20260425T120547
CREATED:20260424T130835Z
LAST-MODIFIED:20260424T130835Z
UID:7263-1783702800-1783710000@carrabassettnemba.org
SUMMARY:Spinnin' Sugar Advanced Women's Gravity Meet Up
DESCRIPTION:Meet outside the Sugarloaf Bike Shop on Fridays at 5:00 PM ready to hit the lift.
URL:https://carrabassettnemba.org/event/spinnin-sugar-advanced-womens-gravity-meet-up-3/
LOCATION:Sugarloaf Bike Park
CATEGORIES:Ride
END:VEVENT
BEGIN:VEVENT
DTSTART;TZID=America/New_York:20260711T090000
DTEND;TZID=America/New_York:20260711T130000
DTSTAMP:20260425T120547
CREATED:20260409T134936Z
LAST-MODIFIED:20260409T134936Z
UID:7152-1783760400-1783774800@carrabassettnemba.org
SUMMARY:CRNEMBA Trail Work Day
DESCRIPTION:Join CRNEMBA for a weekend trail work session!  Have some fun and make a difference with CRNEMBA as we maintain\, upgrade\, and build CVTrails.  All are welcome.  If you are not a CRNEMBA member this is a great way to learn about us and meet some members.  Generally plan on bringing sturdy boots/shoes\, work gloves\, safety glasses (if you have them -we have extra)\, water\, snacks and appropriate layers for changing conditions.  More details and meet up location will be forthcoming.
URL:https://carrabassettnemba.org/event/crnemba-trail-work-day-4/
LOCATION:To Be Determined
CATEGORIES:Trail Work
END:VEVENT
BEGIN:VEVENT
DTSTART;TZID=America/New_York:20260714T173000
DTEND;TZID=America/New_York:20260714T190000
DTSTAMP:20260425T120547
CREATED:20260424T095335Z
LAST-MODIFIED:20260424T095335Z
UID:7186-1784050200-1784055600@carrabassettnemba.org
SUMMARY:CRNEMBA Tuesday Night Ride
DESCRIPTION:This is a coed\, intermediate\, no-drop ride at a social pace\, but be ready for a bit of climbing ;).  The ride starts and ends at the Hostel of Maine with an opportunity for an after-ride beverage with fellow riders (for purchase at the Hostel of Maine).
URL:https://carrabassettnemba.org/event/crnemba-tuesday-night-ride-6/
LOCATION:Hostel of Maine\, 3004 Town Line Rd\, Carrabassett Valley\, 04947\, United States
CATEGORIES:Ride
END:VEVENT
BEGIN:VEVENT
DTSTART;TZID=America/New_York:20260717T090000
DTEND;TZID=America/New_York:20260717T230000
DTSTAMP:20260425T120547
CREATED:20260424T103833Z
LAST-MODIFIED:20260424T103833Z
UID:7234-1784278800-1784329200@carrabassettnemba.org
SUMMARY:Spinnn' Sugar Inter-Mellow Ride
DESCRIPTION:Join the women’s Spinnin’ Sugar inter-mellow ride each Friday morning at 9:00 AM.  Check the Spinnin’ Sugar Facebook Page for location.
URL:https://carrabassettnemba.org/event/spinnn-sugar-inter-mellow-ride/
LOCATION:TBD Check Spinnin’ Sugar FB Page
CATEGORIES:Ride
END:VEVENT
BEGIN:VEVENT
DTSTART;TZID=America/New_York:20260717T170000
DTEND;TZID=America/New_York:20260717T190000
DTSTAMP:20260425T120547
CREATED:20260424T131042Z
LAST-MODIFIED:20260424T131042Z
UID:7265-1784307600-1784314800@carrabassettnemba.org
SUMMARY:Spinnin' Sugar Advanced Women's Gravity Meet Up
DESCRIPTION:Meet outside the Sugarloaf Bike Shop on Fridays at 5:00 PM ready to hit the lift.
URL:https://carrabassettnemba.org/event/spinnin-sugar-advanced-womens-gravity-meet-up-4/
LOCATION:Sugarloaf Bike Park
CATEGORIES:Ride
END:VEVENT
BEGIN:VEVENT
DTSTART;VALUE=DATE:20260718
DTEND;VALUE=DATE:20260720
DTSTAMP:20260425T120547
CREATED:20260127T100254Z
LAST-MODIFIED:20260127T100254Z
UID:7063-1784343600-1784429999@carrabassettnemba.org
SUMMARY:15th Carrabassett Backcountry Cycle Challenge
DESCRIPTION:For more information visit the CBCC website.
URL:https://carrabassettnemba.org/event/15th-carrabassett-backcountry-cycle-challenge/
LOCATION:Sugarloaf Outdoor Center\, 3001 Touring Center Road\, Carrabassett Valley\, ME\, 04947\, United States
CATEGORIES:Race
END:VEVENT
END:VCALENDAR