BEGIN:VCALENDAR
VERSION:2.0
PRODID:-//Carrabassett NEMBA - ECPv6.15.20//NONSGML v1.0//EN
CALSCALE:GREGORIAN
METHOD:PUBLISH
X-ORIGINAL-URL:https://carrabassettnemba.org
X-WR-CALDESC:Events for Carrabassett NEMBA
REFRESH-INTERVAL;VALUE=DURATION:PT1H
X-Robots-Tag:noindex
X-PUBLISHED-TTL:PT1H
BEGIN:VTIMEZONE
TZID:America/New_York
BEGIN:DAYLIGHT
TZOFFSETFROM:-0500
TZOFFSETTO:-0400
TZNAME:EDT
DTSTART:20250309T070000
END:DAYLIGHT
BEGIN:STANDARD
TZOFFSETFROM:-0400
TZOFFSETTO:-0500
TZNAME:EST
DTSTART:20251102T060000
END:STANDARD
BEGIN:DAYLIGHT
TZOFFSETFROM:-0500
TZOFFSETTO:-0400
TZNAME:EDT
DTSTART:20260308T070000
END:DAYLIGHT
BEGIN:STANDARD
TZOFFSETFROM:-0400
TZOFFSETTO:-0500
TZNAME:EST
DTSTART:20261101T060000
END:STANDARD
BEGIN:DAYLIGHT
TZOFFSETFROM:-0500
TZOFFSETTO:-0400
TZNAME:EDT
DTSTART:20270314T070000
END:DAYLIGHT
BEGIN:STANDARD
TZOFFSETFROM:-0400
TZOFFSETTO:-0500
TZNAME:EST
DTSTART:20271107T060000
END:STANDARD
END:VTIMEZONE
BEGIN:VEVENT
DTSTART;TZID=America/New_York:20260915T173000
DTEND;TZID=America/New_York:20260915T190000
DTSTAMP:20260425T210559
CREATED:20260424T100305Z
LAST-MODIFIED:20260424T100305Z
UID:7204-1789493400-1789498800@carrabassettnemba.org
SUMMARY:CRNEMBA Tuesday Night Ride
DESCRIPTION:This is a coed\, intermediate\, no-drop ride at a social pace\, but be ready for a bit of climbing ;).  The ride starts and ends at the Hostel of Maine with an opportunity for an after-ride beverage with fellow riders (for purchase at the Hostel of Maine).
URL:https://carrabassettnemba.org/event/crnemba-tuesday-night-ride-15/
LOCATION:Hostel of Maine\, 3004 Town Line Rd\, Carrabassett Valley\, 04947\, United States
CATEGORIES:Ride
END:VEVENT
BEGIN:VEVENT
DTSTART;TZID=America/New_York:20260918T090000
DTEND;TZID=America/New_York:20260918T110000
DTSTAMP:20260425T210559
CREATED:20260424T104913Z
LAST-MODIFIED:20260424T104913Z
UID:7252-1789722000-1789729200@carrabassettnemba.org
SUMMARY:Spinnin' Sugar Inter-Mellow Ride
DESCRIPTION:Join the women’s Spinnin’ Sugar inter-mellow ride each Friday morning at 9:00 AM.  Check the Spinnin’ Sugar Facebook Page for location.
URL:https://carrabassettnemba.org/event/spinnin-sugar-inter-mellow-ride-15/
LOCATION:TBD Check Spinnin’ Sugar FB Page
CATEGORIES:Ride
END:VEVENT
BEGIN:VEVENT
DTSTART;TZID=America/New_York:20260922T173000
DTEND;TZID=America/New_York:20260922T190000
DTSTAMP:20260425T210559
CREATED:20260424T100409Z
LAST-MODIFIED:20260424T100409Z
UID:7206-1790098200-1790103600@carrabassettnemba.org
SUMMARY:CRNEMBA Tuesday Night Ride
DESCRIPTION:This is a coed\, intermediate\, no-drop ride at a social pace\, but be ready for a bit of climbing ;).  The ride starts and ends at the Hostel of Maine with an opportunity for an after-ride beverage with fellow riders (for purchase at the Hostel of Maine).
URL:https://carrabassettnemba.org/event/crnemba-tuesday-night-ride-16/
LOCATION:Hostel of Maine\, 3004 Town Line Rd\, Carrabassett Valley\, 04947\, United States
CATEGORIES:Ride
END:VEVENT
BEGIN:VEVENT
DTSTART;TZID=America/New_York:20260925T090000
DTEND;TZID=America/New_York:20260925T110000
DTSTAMP:20260425T210559
CREATED:20260424T105019Z
LAST-MODIFIED:20260424T105019Z
UID:7254-1790326800-1790334000@carrabassettnemba.org
SUMMARY:Spinnin' Sugar Inter-Mellow Ride
DESCRIPTION:Join the women’s Spinnin’ Sugar inter-mellow ride each Friday morning at 9:00 AM.  Check the Spinnin’ Sugar Facebook Page for location.
URL:https://carrabassettnemba.org/event/spinnin-sugar-inter-mellow-ride-16/
LOCATION:TBD Check Spinnin’ Sugar FB Page
CATEGORIES:Ride
END:VEVENT
BEGIN:VEVENT
DTSTART;TZID=America/New_York:20260929T173000
DTEND;TZID=America/New_York:20260929T190000
DTSTAMP:20260425T210559
CREATED:20260424T100508Z
LAST-MODIFIED:20260424T100508Z
UID:7208-1790703000-1790708400@carrabassettnemba.org
SUMMARY:CRNEMBA Tuesday Night Ride
DESCRIPTION:This is a coed\, intermediate\, no-drop ride at a social pace\, but be ready for a bit of climbing ;).  The ride starts and ends at the Hostel of Maine with an opportunity for an after-ride beverage with fellow riders (for purchase at the Hostel of Maine).
URL:https://carrabassettnemba.org/event/crnemba-tuesday-night-ride-17/
LOCATION:Hostel of Maine\, 3004 Town Line Rd\, Carrabassett Valley\, 04947\, United States
CATEGORIES:Ride
END:VEVENT
BEGIN:VEVENT
DTSTART;TZID=America/New_York:20261002T090000
DTEND;TZID=America/New_York:20261002T110000
DTSTAMP:20260425T210559
CREATED:20260424T105156Z
LAST-MODIFIED:20260424T105156Z
UID:7257-1790931600-1790938800@carrabassettnemba.org
SUMMARY:Spinnin' Sugar Inter-Mellow Ride
DESCRIPTION:Join the women’s Spinnin’ Sugar inter-mellow ride each Friday morning at 9:00 AM.  Check the Spinnin’ Sugar Facebook Page for location.
URL:https://carrabassettnemba.org/event/spinnin-sugar-inter-mellow-ride-17/
LOCATION:TBD Check Spinnin’ Sugar FB Page
CATEGORIES:Ride
END:VEVENT
BEGIN:VEVENT
DTSTART;TZID=America/New_York:20261006T173000
DTEND;TZID=America/New_York:20261006T190000
DTSTAMP:20260425T210559
CREATED:20260424T100613Z
LAST-MODIFIED:20260424T100613Z
UID:7210-1791307800-1791313200@carrabassettnemba.org
SUMMARY:CRNEMBA Tuesday Night Ride
DESCRIPTION:This is a coed\, intermediate\, no-drop ride at a social pace\, but be ready for a bit of climbing ;).  The ride starts and ends at the Hostel of Maine with an opportunity for an after-ride beverage with fellow riders (for purchase at the Hostel of Maine).
URL:https://carrabassettnemba.org/event/crnemba-tuesday-night-ride-18/
LOCATION:Hostel of Maine\, 3004 Town Line Rd\, Carrabassett Valley\, 04947\, United States
CATEGORIES:Ride
END:VEVENT
BEGIN:VEVENT
DTSTART;TZID=America/New_York:20261009T090000
DTEND;TZID=America/New_York:20261009T110000
DTSTAMP:20260425T210559
CREATED:20260424T105259Z
LAST-MODIFIED:20260424T105259Z
UID:7259-1791536400-1791543600@carrabassettnemba.org
SUMMARY:Spinnin' Sugar Inter-Mellow Ride
DESCRIPTION:Join the women’s Spinnin’ Sugar inter-mellow ride each Friday morning at 9:00 AM.  Check the Spinnin’ Sugar Facebook Page for location.
URL:https://carrabassettnemba.org/event/spinnin-sugar-inter-mellow-ride-18/
LOCATION:TBD Check Spinnin’ Sugar FB Page
CATEGORIES:Ride
END:VEVENT
END:VCALENDAR